BEGIN:VCALENDAR
VERSION:2.0
PRODID:-//Turisticka organizacija Gusinje - ECPv6.5.1.5//NONSGML v1.0//EN
CALSCALE:GREGORIAN
METHOD:PUBLISH
X-ORIGINAL-URL:https://gusinje.travel
X-WR-CALDESC:Events for Turisticka organizacija Gusinje
REFRESH-INTERVAL;VALUE=DURATION:PT1H
X-Robots-Tag:noindex
X-PUBLISHED-TTL:PT1H
BEGIN:VTIMEZONE
TZID:UTC
BEGIN:STANDARD
TZOFFSETFROM:+0000
TZOFFSETTO:+0000
TZNAME:UTC
DTSTART:20250101T000000
END:STANDARD
END:VTIMEZONE
BEGIN:VEVENT
DTSTART;VALUE=DATE:20250104
DTEND;VALUE=DATE:20250105
DTSTAMP:20260419T145821
CREATED:20250103T145631Z
LAST-MODIFIED:20251229T142034Z
UID:2483-1735948800-1736035199@gusinje.travel
SUMMARY:Hokej na ledu
DESCRIPTION:
URL:https://gusinje.travel/event/hokej-na-ledu/
CATEGORIES:Zima
END:VEVENT
BEGIN:VEVENT
DTSTART;VALUE=DATE:20250105
DTEND;VALUE=DATE:20250106
DTSTAMP:20260419T145821
CREATED:20250103T145725Z
LAST-MODIFIED:20250103T145725Z
UID:2487-1736035200-1736121599@gusinje.travel
SUMMARY:Hokej na ledu
DESCRIPTION:
URL:https://gusinje.travel/event/hokej-na-ledu-2/
END:VEVENT
BEGIN:VEVENT
DTSTART;VALUE=DATE:20250108
DTEND;VALUE=DATE:20250109
DTSTAMP:20260419T145821
CREATED:20250103T145917Z
LAST-MODIFIED:20251229T142039Z
UID:2491-1736294400-1736380799@gusinje.travel
SUMMARY:Ledena zabava
DESCRIPTION:
URL:https://gusinje.travel/event/ledena-zabava/
CATEGORIES:Zima
END:VEVENT
BEGIN:VEVENT
DTSTART;TZID=UTC:20250111T100000
DTEND;TZID=UTC:20250111T170000
DTSTAMP:20260419T145821
CREATED:20250103T150122Z
LAST-MODIFIED:20251229T142047Z
UID:2495-1736589600-1736614800@gusinje.travel
SUMMARY:Sniježenje radosti pod Prokletijama\, Grebaje
DESCRIPTION:
URL:https://gusinje.travel/event/snijezenje-radosti-pod-prokletijama-grebaje/
CATEGORIES:Zima
END:VEVENT
BEGIN:VEVENT
DTSTART;VALUE=DATE:20250112
DTEND;VALUE=DATE:20250113
DTSTAMP:20260419T145821
CREATED:20250103T150207Z
LAST-MODIFIED:20251229T142053Z
UID:2499-1736640000-1736726399@gusinje.travel
SUMMARY:Muzički program
DESCRIPTION:
URL:https://gusinje.travel/event/muzicki-program/
CATEGORIES:Zima
END:VEVENT
BEGIN:VEVENT
DTSTART;TZID=UTC:20250115T120000
DTEND;TZID=UTC:20250115T170000
DTSTAMP:20260419T145821
CREATED:20250103T150304Z
LAST-MODIFIED:20251229T142106Z
UID:2503-1736942400-1736960400@gusinje.travel
SUMMARY:Face painting i dječija zabava
DESCRIPTION:
URL:https://gusinje.travel/event/face-painting-i-djecija-zabava/
CATEGORIES:Zima
END:VEVENT
BEGIN:VEVENT
DTSTART;VALUE=DATE:20250118
DTEND;VALUE=DATE:20250119
DTSTAMP:20260419T145821
CREATED:20250103T150328Z
LAST-MODIFIED:20251229T142112Z
UID:2507-1737158400-1737244799@gusinje.travel
SUMMARY:Hokej na ledu
DESCRIPTION:
URL:https://gusinje.travel/event/hokej-na-ledu-3/
CATEGORIES:Zima
END:VEVENT
BEGIN:VEVENT
DTSTART;TZID=UTC:20250122T120000
DTEND;TZID=UTC:20250122T170000
DTSTAMP:20260419T145821
CREATED:20250103T150416Z
LAST-MODIFIED:20251229T142119Z
UID:2509-1737547200-1737565200@gusinje.travel
SUMMARY:Mali kreativci
DESCRIPTION:
URL:https://gusinje.travel/event/mali-kreativci/
CATEGORIES:Zima
END:VEVENT
BEGIN:VEVENT
DTSTART;VALUE=DATE:20250125
DTEND;VALUE=DATE:20250126
DTSTAMP:20260419T145821
CREATED:20250103T150458Z
LAST-MODIFIED:20251229T142124Z
UID:2515-1737763200-1737849599@gusinje.travel
SUMMARY:Muzički program
DESCRIPTION:
URL:https://gusinje.travel/event/muzicki-program-2/
CATEGORIES:Zima
END:VEVENT
END:VCALENDAR